BEGIN:VCALENDAR
VERSION:2.0
PRODID:-//Edlio Inc//Edlio Calendar//EN
CALSCALE:GREGORIAN
METHOD:PUBLISH
X-WR-CALNAME:Los Gatos Union School District - Events
X-ORIGINAL-URL:https://www.lgusd.org
X-WR-CALDESC:Events calendar for www.lgusd.org
X-WR-TIMEZONE:US/Pacific
REFRESH-INTERVAL;VALUE=DURATION:PT1H
X-Robots-Tag:noindex
X-PUBLISHED-TTL:PT1H
BEGIN:VTIMEZONE
TZID:US/Pacific
BEGIN:STANDARD
TZOFFSETFROM:-0700
TZOFFSETTO:-0800
DTSTART:20071104T020000
RRULE:FREQ=YEARLY;BYMONTH=11;BYDAY=1SU
END:STANDARD
BEGIN:DAYLIGHT
TZOFFSETFROM:-0800
TZOFFSETTO:-0700
DTSTART:20070311T020000
RRULE:FREQ=YEARLY;BYMONTH=3;BYDAY=2SU
END:DAYLIGHT
END:VTIMEZONE
BEGIN:VTIMEZONE
TZID:US/East-Indiana
BEGIN:STANDARD
TZOFFSETFROM:-0500
TZOFFSETTO:-0500
DTSTART:19701025T020000
END:STANDARD
END:VTIMEZONE
BEGIN:VTIMEZONE
TZID:US/Eastern
BEGIN:STANDARD
TZOFFSETFROM:-0400
TZOFFSETTO:-0500
DTSTART:19701025T020000
RRULE:FREQ=YEARLY;BYMONTH=10;BYDAY=-1SU;UNTIL=20070311T020000
END:STANDARD
BEGIN:STANDARD
TZOFFSETFROM:-0400
TZOFFSETTO:-0500
DTSTART:20071104T020000
RRULE:FREQ=YEARLY;BYMONTH=11;BYDAY=1SU
END:STANDARD
BEGIN:DAYLIGHT
TZOFFSETFROM:-0500
TZOFFSETTO:-0400
DTSTART:19870405T020000
RRULE:FREQ=YEARLY;BYMONTH=4;BYDAY=1SU;UNTIL=20061029T020000
END:DAYLIGHT
BEGIN:DAYLIGHT
TZOFFSETFROM:-0500
TZOFFSETTO:-0400
DTSTART:20070311T020000
RRULE:FREQ=YEARLY;BYMONTH=3;BYDAY=2SU
END:DAYLIGHT
END:VTIMEZONE
BEGIN:VTIMEZONE
TZID:US/Michigan
BEGIN:STANDARD
TZOFFSETFROM:-0400
TZOFFSETTO:-0500
DTSTART:19701025T020000
RRULE:FREQ=YEARLY;BYMONTH=10;BYDAY=-1SU;UNTIL=20070311T020000
END:STANDARD
BEGIN:STANDARD
TZOFFSETFROM:-0400
TZOFFSETTO:-0500
DTSTART:20071104T020000
RRULE:FREQ=YEARLY;BYMONTH=11;BYDAY=1SU
END:STANDARD
BEGIN:DAYLIGHT
TZOFFSETFROM:-0500
TZOFFSETTO:-0400
DTSTART:19870405T020000
RRULE:FREQ=YEARLY;BYMONTH=4;BYDAY=1SU;UNTIL=20061029T020000
END:DAYLIGHT
BEGIN:DAYLIGHT
TZOFFSETFROM:-0500
TZOFFSETTO:-0400
DTSTART:20070311T020000
RRULE:FREQ=YEARLY;BYMONTH=3;BYDAY=2SU
END:DAYLIGHT
END:VTIMEZONE
BEGIN:VTIMEZONE
TZID:US/Central
BEGIN:STANDARD
TZOFFSETFROM:-0500
TZOFFSETTO:-0600
DTSTART:19701025T020000
RRULE:FREQ=YEARLY;BYMONTH=10;BYDAY=-1SU;UNTIL=20070311T020000
END:STANDARD
BEGIN:STANDARD
TZOFFSETFROM:-0500
TZOFFSETTO:-0600
DTSTART:20071104T020000
RRULE:FREQ=YEARLY;BYMONTH=11;BYDAY=1SU
END:STANDARD
BEGIN:DAYLIGHT
TZOFFSETFROM:-0600
TZOFFSETTO:-0500
DTSTART:19870405T020000
RRULE:FREQ=YEARLY;BYMONTH=4;BYDAY=1SU;UNTIL=20061029T020000
END:DAYLIGHT
BEGIN:DAYLIGHT
TZOFFSETFROM:-0600
TZOFFSETTO:-0500
DTSTART:20070311T020000
RRULE:FREQ=YEARLY;BYMONTH=3;BYDAY=2SU
END:DAYLIGHT
END:VTIMEZONE
BEGIN:VTIMEZONE
TZID:US/Mountain
BEGIN:STANDARD
TZOFFSETFROM:-0600
TZOFFSETTO:-0700
DTSTART:19701025T020000
RRULE:FREQ=YEARLY;BYMONTH=10;BYDAY=-1SU;UNTIL=20070311T020000
END:STANDARD
BEGIN:STANDARD
TZOFFSETFROM:-0600
TZOFFSETTO:-0700
DTSTART:20071104T020000
RRULE:FREQ=YEARLY;BYMONTH=11;BYDAY=1SU
END:STANDARD
BEGIN:DAYLIGHT
TZOFFSETFROM:-0700
TZOFFSETTO:-0600
DTSTART:19870405T020000
RRULE:FREQ=YEARLY;BYMONTH=4;BYDAY=1SU;UNTIL=20061029T020000
END:DAYLIGHT
BEGIN:DAYLIGHT
TZOFFSETFROM:-0700
TZOFFSETTO:-0600
DTSTART:20070311T020000
RRULE:FREQ=YEARLY;BYMONTH=3;BYDAY=2SU
END:DAYLIGHT
END:VTIMEZONE
BEGIN:VTIMEZONE
TZID:US/Arizona
BEGIN:STANDARD
TZOFFSETFROM:-0700
TZOFFSETTO:-0700
DTSTART:19701025T020000
END:STANDARD
END:VTIMEZONE
BEGIN:VTIMEZONE
TZID:US/Pacific
BEGIN:STANDARD
TZOFFSETFROM:-0700
TZOFFSETTO:-0800
DTSTART:19701025T020000
RRULE:FREQ=YEARLY;BYMONTH=10;BYDAY=-1SU;UNTIL=20070311T020000
END:STANDARD
BEGIN:STANDARD
TZOFFSETFROM:-0700
TZOFFSETTO:-0800
DTSTART:20071104T020000
RRULE:FREQ=YEARLY;BYMONTH=11;BYDAY=1SU
END:STANDARD
BEGIN:DAYLIGHT
TZOFFSETFROM:-0800
TZOFFSETTO:-0700
DTSTART:19870405T020000
RRULE:FREQ=YEARLY;BYMONTH=4;BYDAY=1SU;UNTIL=20061029T020000
END:DAYLIGHT
BEGIN:DAYLIGHT
TZOFFSETFROM:-0800
TZOFFSETTO:-0700
DTSTART:20070311T020000
RRULE:FREQ=YEARLY;BYMONTH=3;BYDAY=2SU
END:DAYLIGHT
END:VTIMEZONE
BEGIN:VTIMEZONE
TZID:US/Alaska
BEGIN:STANDARD
TZOFFSETFROM:-0800
TZOFFSETTO:-0900
DTSTART:19701025T020000
RRULE:FREQ=YEARLY;BYMONTH=10;BYDAY=-1SU;UNTIL=20070311T020000
END:STANDARD
BEGIN:STANDARD
TZOFFSETFROM:-0800
TZOFFSETTO:-0900
DTSTART:20071104T020000
RRULE:FREQ=YEARLY;BYMONTH=11;BYDAY=1SU
END:STANDARD
BEGIN:DAYLIGHT
TZOFFSETFROM:-0900
TZOFFSETTO:-0800
DTSTART:19870405T020000
RRULE:FREQ=YEARLY;BYMONTH=4;BYDAY=1SU;UNTIL=20061029T020000
END:DAYLIGHT
BEGIN:DAYLIGHT
TZOFFSETFROM:-0900
TZOFFSETTO:-0800
DTSTART:20070311T020000
RRULE:FREQ=YEARLY;BYMONTH=3;BYDAY=2SU
END:DAYLIGHT
END:VTIMEZONE
BEGIN:VTIMEZONE
TZID:US/Hawaii
BEGIN:STANDARD
TZOFFSETFROM:-1000
TZOFFSETTO:-1000
DTSTART:19701025T020000
END:STANDARD
END:VTIMEZONE
BEGIN:VTIMEZONE
TZID:US/Aleutian
BEGIN:STANDARD
TZOFFSETFROM:-1000
TZOFFSETTO:-1000
DTSTART:19701025T020000
END:STANDARD
END:VTIMEZONE
BEGIN:VTIMEZONE
TZID:US/Samoa
BEGIN:STANDARD
TZOFFSETFROM:-1100
TZOFFSETTO:-1100
DTSTART:19701025T020000
END:STANDARD
END:VTIMEZONE
BEGIN:VEVENT
UID:37254503@www.lgusd.org#20260430
SEQUENCE:0
CREATED:20260313T184453Z
LAST-MODIFIED:20260313T184453Z
DTSTART;VALUE=DATE:20260430
DURATION:P1D
SUMMARY:LGUSD Special Board Meeting
LOCATION:Toll House\n140 S Santa Cruz Ave.\nLos Gatos\, CA 95030
CATEGORIES:Events
URL:https://www.lgusd.org/apps/events/37254503/
ORGANIZER;CN="Edlio Calendar":MAILTO:noreply@www.lgusd.org
DTSTAMP:20260424T145711Z
END:VEVENT
BEGIN:VEVENT
UID:37254507@www.lgusd.org#20260501
SEQUENCE:0
CREATED:20260313T184547Z
LAST-MODIFIED:20260313T184547Z
DTSTART;VALUE=DATE:20260501
DURATION:P1D
SUMMARY:LGUSD Special Board Meeting
LOCATION:Toll House\n140 S Santa Cruz Ave.\nLos Gatos\, CA 95030
CATEGORIES:Events
URL:https://www.lgusd.org/apps/events/37254507/
ORGANIZER;CN="Edlio Calendar":MAILTO:noreply@www.lgusd.org
DTSTAMP:20260424T145711Z
END:VEVENT
BEGIN:VEVENT
UID:39680364@www.lgusd.org#20260417
SEQUENCE:4
CREATED:20260417T025036Z
LAST-MODIFIED:20260417T025036Z
DTSTART;VALUE=DATE:20260417
DURATION:P1D
SUMMARY:LGUSD Special Board Meeting - CANCELLED
CATEGORIES:Events
URL:https://www.lgusd.org/apps/events/39680364/
ORGANIZER;CN="Edlio Calendar":MAILTO:noreply@www.lgusd.org
DTSTAMP:20260424T145711Z
END:VEVENT
BEGIN:VEVENT
UID:37254500@www.lgusd.org#20260416
SEQUENCE:1
CREATED:20260414T173704Z
LAST-MODIFIED:20260414T173704Z
DTSTART;TZID=US/Pacific:20260416T080000
DTEND;TZID=US/Pacific:20260416T080000
SUMMARY:LGUSD Special Board Meeting
LOCATION:Toll House\n140 S Santa Cruz Ave.\nLos Gatos\, CA 95030
CATEGORIES:Events
DESCRIPTION:\nhttps://simbli.eboardsolutions.com/SB_Meetings/ViewMeeting.as
 px?S=36030309&MID=61768\n<a href=' https://www.lgusd.org/apps/events/37254
 500/'>Read more</a>
URL:https://www.lgusd.org/apps/events/37254500/
ORGANIZER;CN="Edlio Calendar":MAILTO:noreply@www.lgusd.org
DTSTAMP:20260424T145711Z
END:VEVENT
BEGIN:VEVENT
UID:36014020@www.lgusd.org#20260213
SEQUENCE:1
CREATED:20260212T012001Z
LAST-MODIFIED:20260212T012001Z
DTSTART;TZID=US/Pacific:20260213T083000
DTEND;TZID=US/Pacific:20260213T083000
SUMMARY:Special Board Meeting
LOCATION:Los Gatos Union School District\n17010 Roberts Road\nLos Gatos\, C
 A 95032
CATEGORIES:Events
DESCRIPTION:\nhttps://simbli.eboardsolutions.com/SB_Meetings/ViewMeeting.as
 px?S=36030309&MID=56053\n<a href=' https://www.lgusd.org/apps/events/36014
 020/'>Read more</a>
URL:https://www.lgusd.org/apps/events/36014020/
ORGANIZER;CN="Edlio Calendar":MAILTO:noreply@www.lgusd.org
DTSTAMP:20260424T145711Z
END:VEVENT
BEGIN:VEVENT
UID:38038859@www.lgusd.org#20260413
SEQUENCE:1
CREATED:20260412T045611Z
LAST-MODIFIED:20260412T045611Z
DTSTART;TZID=US/Pacific:20260413T113000
DTEND;TZID=US/Pacific:20260413T130000
SUMMARY:LGUSD Special Board Meeting
LOCATION:Los Gatos Union School District\n17010 Roberts Road\nLos Gatos\, C
 A 95032
CATEGORIES:Events
DESCRIPTION:\nhttps://simbli.eboardsolutions.com/SB_Meetings/ViewMeeting.as
 px?S=36030309&MID=60708\n<a href=' https://www.lgusd.org/apps/events/38038
 859/'>Read more</a>
URL:https://www.lgusd.org/apps/events/38038859/
ORGANIZER;CN="Edlio Calendar":MAILTO:noreply@www.lgusd.org
DTSTAMP:20260424T145711Z
END:VEVENT
BEGIN:VEVENT
UID:37253471@www.lgusd.org#20260316
SEQUENCE:0
CREATED:20260313T181232Z
LAST-MODIFIED:20260313T181232Z
DTSTART;TZID=US/Pacific:20260316T120000
DTEND;TZID=US/Pacific:20260316T120000
SUMMARY:LGUSD Special Board Meeting
LOCATION:Los Gatos Union School District\n17010 Roberts Road\nLos Gatos\, C
 A 95032
CATEGORIES:Events
DESCRIPTION:\nhttps://simbli.eboardsolutions.com/SB_Meetings/ViewMeeting.as
 px?S=36030309&MID=58423\n<a href=' https://www.lgusd.org/apps/events/37253
 471/'>Read more</a>
URL:https://www.lgusd.org/apps/events/37253471/
ORGANIZER;CN="Edlio Calendar":MAILTO:noreply@www.lgusd.org
DTSTAMP:20260424T145711Z
END:VEVENT
BEGIN:VEVENT
UID:35402842@www.lgusd.org#20251023
SEQUENCE:0
CREATED:20251022T222609Z
LAST-MODIFIED:20251022T222609Z
DTSTART;TZID=US/Pacific:20251023T150000
DTEND;TZID=US/Pacific:20251023T183000
SUMMARY:LGUSD Special Board Meeting (Study Session)
LOCATION:Los Gatos Union School District\n17010 Roberts Road\nLos Gatos\, C
 A 95032
CATEGORIES:Events
DESCRIPTION:\nhttps://simbli.eboardsolutions.com/SB_Meetings/ViewMeeting.as
 px?S=36030309&MID=47186\n<a href=' https://www.lgusd.org/apps/events/35402
 842/'>Read more</a>
URL:https://www.lgusd.org/apps/events/35402842/
ORGANIZER;CN="Edlio Calendar":MAILTO:noreply@www.lgusd.org
DTSTAMP:20260424T145711Z
END:VEVENT
BEGIN:VEVENT
UID:35878298@www.lgusd.org#20260507
SEQUENCE:1
CREATED:20260422T185721Z
LAST-MODIFIED:20260422T185721Z
DTSTART;TZID=US/Pacific:20260507T150000
DTEND;TZID=US/Pacific:20260507T150000
SUMMARY:Regular Board Meeting
LOCATION:Daves Avenue Elementary School\n17770 Daves Ave.\nMonte Sereno\, C
 A 95030\n\nand livestream
CATEGORIES:Events
URL:https://www.lgusd.org/apps/events/35878298/
ORGANIZER;CN="Edlio Calendar":MAILTO:noreply@www.lgusd.org
DTSTAMP:20260424T145711Z
END:VEVENT
BEGIN:VEVENT
UID:32040418@www.lgusd.org#20250828
SEQUENCE:1
CREATED:20250827T222326Z
LAST-MODIFIED:20250827T222326Z
DTSTART;TZID=US/Pacific:20250828T153000
DTEND;TZID=US/Pacific:20250828T173000
SUMMARY:LGUSD Special Board Meeting (Study Session)
LOCATION:Los Gatos Union School District\n17010 Roberts Road\, Los Gatos
CATEGORIES:Events
DESCRIPTION:\nhttps://simbli.eboardsolutions.com/SB_Meetings/ViewMeeting.as
 px?S=36030309&MID=43807\n<a href=' https://www.lgusd.org/apps/events/32040
 418/'>Read more</a>
URL:https://www.lgusd.org/apps/events/32040418/
ORGANIZER;CN="Edlio Calendar":MAILTO:noreply@www.lgusd.org
DTSTAMP:20260424T145711Z
END:VEVENT
BEGIN:VEVENT
UID:35878264@www.lgusd.org#20260129
SEQUENCE:1
CREATED:20260128T232631Z
LAST-MODIFIED:20260128T232631Z
DTSTART;TZID=US/Pacific:20260129T153000
DTEND;TZID=US/Pacific:20260129T193000
SUMMARY:Special Board Meeting (Study Session)
LOCATION:Los Gatos Union School District\n17010 Roberts Road\nLos Gatos\, C
 A 95032
CATEGORIES:Events
DESCRIPTION:\nhttps://simbli.eboardsolutions.com/SB_Meetings/ViewMeeting.as
 px?S=36030309&MID=54188\n<a href=' https://www.lgusd.org/apps/events/35878
 264/'>Read more</a>
URL:https://www.lgusd.org/apps/events/35878264/
ORGANIZER;CN="Edlio Calendar":MAILTO:noreply@www.lgusd.org
DTSTAMP:20260424T145711Z
END:VEVENT
BEGIN:VEVENT
UID:35878290@www.lgusd.org#20260402
SEQUENCE:2
CREATED:20260402T001636Z
LAST-MODIFIED:20260402T001636Z
DTSTART;TZID=US/Pacific:20260402T153000
DTEND;TZID=US/Pacific:20260402T173000
SUMMARY:Special Board Meeting (Study Session)
LOCATION:Los Gatos Union School District\n17010 Roberts Road\nLos Gatos\, C
 A 95032
CATEGORIES:Events
DESCRIPTION:\nhttps://simbli.eboardsolutions.com/SB_Meetings/ViewMeeting.as
 px?S=36030309&MID=60703\n<a href=' https://www.lgusd.org/apps/events/35878
 290/'>Read more</a>
URL:https://www.lgusd.org/apps/events/35878290/
ORGANIZER;CN="Edlio Calendar":MAILTO:noreply@www.lgusd.org
DTSTAMP:20260424T145711Z
END:VEVENT
BEGIN:VEVENT
UID:21619337@www.lgusd.org#20250515
SEQUENCE:1
CREATED:20250512T215819Z
LAST-MODIFIED:20250512T215819Z
DTSTART;TZID=US/Pacific:20250515T160000
DTEND;TZID=US/Pacific:20250515T160000
SUMMARY:LGUSD Regular Board Meeting
LOCATION:Lexington Elementary School\n19700 Old Santa Cruz Hwy\, Los Gatos\
 , CA 95033
CATEGORIES:Events
DESCRIPTION:\nhttps://simbli.eboardsolutions.com/SB_Meetings/ViewMeeting.as
 px?S=36030309&MID=38759\n<a href=' https://www.lgusd.org/apps/events/21619
 337/'>Read more</a>
URL:https://www.lgusd.org/apps/events/21619337/
ORGANIZER;CN="Edlio Calendar":MAILTO:noreply@www.lgusd.org
DTSTAMP:20260424T145711Z
END:VEVENT
BEGIN:VEVENT
UID:33028487@www.lgusd.org#20250911
SEQUENCE:2
CREATED:20250908T223015Z
LAST-MODIFIED:20250908T223015Z
DTSTART;TZID=US/Pacific:20250911T160000
DTEND;TZID=US/Pacific:20250911T160000
SUMMARY:LGUSD Regular Board Meeting
LOCATION:Los Gatos Union School District\n17010 Roberts Road\nLos Gatos\n\n
 and live stream
CATEGORIES:Events
DESCRIPTION:\nhttps://simbli.eboardsolutions.com/SB_Meetings/ViewMeeting.as
 px?S=36030309&MID=43806\n<a href=' https://www.lgusd.org/apps/events/33028
 487/'>Read more</a>
URL:https://www.lgusd.org/apps/events/33028487/
ORGANIZER;CN="Edlio Calendar":MAILTO:noreply@www.lgusd.org
DTSTAMP:20260424T145711Z
END:VEVENT
BEGIN:VEVENT
UID:35878266@www.lgusd.org#20260305
SEQUENCE:2
CREATED:20260302T230323Z
LAST-MODIFIED:20260302T230323Z
DTSTART;TZID=US/Pacific:20260305T160000
DTEND;TZID=US/Pacific:20260305T160000
SUMMARY:Regular Board Meeting
LOCATION:Blossom Hill Elementary School\n16400 Blossom Hill Road\nLos Gatos
 \, CA 95032\n\nand livestream
CATEGORIES:Events
DESCRIPTION:\nhttps://simbli.eboardsolutions.com/SB_Meetings/ViewMeeting.as
 px?S=36030309&MID=57275\n<a href=' https://www.lgusd.org/apps/events/35878
 266/'>Read more</a>
URL:https://www.lgusd.org/apps/events/35878266/
ORGANIZER;CN="Edlio Calendar":MAILTO:noreply@www.lgusd.org
DTSTAMP:20260424T145711Z
END:VEVENT
BEGIN:VEVENT
UID:35878292@www.lgusd.org#20260421
SEQUENCE:2
CREATED:20260417T221200Z
LAST-MODIFIED:20260417T221200Z
DTSTART;TZID=US/Pacific:20260421T160000
DTEND;TZID=US/Pacific:20260421T160000
SUMMARY:Regular Board Meeting
LOCATION:R.J. Fisher Middle School\n19195 Fisher Ave.\nLos Gatos\, CA 95032
 \n\nand livestream
CATEGORIES:Events
DESCRIPTION:\nhttps://simbli.eboardsolutions.com/SB_Meetings/ViewMeeting.as
 px?S=36030309&MID=60744\n<a href=' https://www.lgusd.org/apps/events/35878
 292/'>Read more</a>
URL:https://www.lgusd.org/apps/events/35878292/
ORGANIZER;CN="Edlio Calendar":MAILTO:noreply@www.lgusd.org
DTSTAMP:20260424T145711Z
END:VEVENT
BEGIN:VEVENT
UID:41060868@www.lgusd.org#20260514
SEQUENCE:0
CREATED:20260423T175145Z
LAST-MODIFIED:20260423T175145Z
DTSTART;TZID=US/Pacific:20260514T160000
DTEND;TZID=US/Pacific:20260514T160000
SUMMARY:Regular Board Meeting
LOCATION:Los Gatos Union School Distict\n17010 Roberts Road\nLos Gatos\, CA
  95032\n\nand live stream
CATEGORIES:Events
URL:https://www.lgusd.org/apps/events/41060868/
ORGANIZER;CN="Edlio Calendar":MAILTO:noreply@www.lgusd.org
DTSTAMP:20260424T145711Z
END:VEVENT
BEGIN:VEVENT
UID:35877975@www.lgusd.org#20260115
SEQUENCE:0
CREATED:20260114T233044Z
LAST-MODIFIED:20260114T233044Z
DTSTART;TZID=US/Pacific:20260115T160000
DTEND;TZID=US/Pacific:20260115T160000
SUMMARY:Special Board Meeting (Closed Session)
LOCATION:Los Gatos Union School District\n17010 Roberts Road\nLos Gatos\, C
 A 95032
CATEGORIES:Events
DESCRIPTION:\nhttps://simbli.eboardsolutions.com/SB_Meetings/ViewMeeting.as
 px?S=36030309&MID=53057\n<a href=' https://www.lgusd.org/apps/events/35877
 975/'>Read more</a>
URL:https://www.lgusd.org/apps/events/35877975/
ORGANIZER;CN="Edlio Calendar":MAILTO:noreply@www.lgusd.org
DTSTAMP:20260424T145711Z
END:VEVENT
BEGIN:VEVENT
UID:35699137@www.lgusd.org#20251217
SEQUENCE:1
CREATED:20251212T225751Z
LAST-MODIFIED:20251212T225751Z
DTSTART;TZID=US/Pacific:20251217T170000
DTEND;TZID=US/Pacific:20251217T190000
SUMMARY:LGUSD Regular and Organizational Board Meeting
LOCATION:Los Gatos Union School District\n17010 Roberts Road\nLos Gatos\, C
 A 95032\n\nand\n\nLive Stream/Webinar
CATEGORIES:Events
DESCRIPTION:\nhttps://simbli.eboardsolutions.com/SB_Meetings/ViewMeeting.as
 px?S=36030309&MID=49660\n<a href=' https://www.lgusd.org/apps/events/35699
 137/'>Read more</a>
URL:https://www.lgusd.org/apps/events/35699137/
ORGANIZER;CN="Edlio Calendar":MAILTO:noreply@www.lgusd.org
DTSTAMP:20260424T145711Z
END:VEVENT
BEGIN:VEVENT
UID:35767541@www.lgusd.org#20260121
SEQUENCE:1
CREATED:20251219T235600Z
LAST-MODIFIED:20251219T235600Z
DTSTART;TZID=US/Pacific:20260121T180000
DTEND;TZID=US/Pacific:20260121T193000
SUMMARY:Supporting Critical Thinking at Home and in an AI World
LOCATION:RJ Fisher MPR
CATEGORIES:Events
DESCRIPTION:When: Wednesday\, January 21\, 2026 6:00pm<br><br>AI is becomin
 g common in students’ work\, and it can encourage shortcuts\, weaken criti
 cal thinking\, and reduce opportunities for original thought. Join us for 
 an interactive presentation by Common Sense Media\, where they will provid
 e practical gui\n<a href=' https://www.lgusd.org/apps/events/35767541/'>Re
 ad more</a>
URL:https://www.lgusd.org/apps/events/35767541/
ORGANIZER;CN="Edlio Calendar":MAILTO:noreply@www.lgusd.org
DTSTAMP:20260424T145711Z
END:VEVENT
BEGIN:VEVENT
UID:21619345@www.lgusd.org#20250602
SEQUENCE:2
CREATED:20250530T223609Z
LAST-MODIFIED:20250530T223609Z
DTSTART;TZID=US/Pacific:20250602T183000
DTEND;TZID=US/Pacific:20250602T183000
SUMMARY:LGUSD Regular Board Meeting
LOCATION:Los Gatos Union School District\n17010 Roberts Road\, Los Gatos\, 
 CA 95032\n\nand live stream
CATEGORIES:Events
DESCRIPTION:\nhttps://simbli.eboardsolutions.com/SB_Meetings/ViewMeeting.as
 px?S=36030309&MID=39965\n<a href=' https://www.lgusd.org/apps/events/21619
 345/'>Read more</a>
URL:https://www.lgusd.org/apps/events/21619345/
ORGANIZER;CN="Edlio Calendar":MAILTO:noreply@www.lgusd.org
DTSTAMP:20260424T145711Z
END:VEVENT
BEGIN:VEVENT
UID:31248253@www.lgusd.org#20250814
SEQUENCE:1
CREATED:20250812T034627Z
LAST-MODIFIED:20250812T034627Z
DTSTART;TZID=US/Pacific:20250814T183000
DTEND;TZID=US/Pacific:20250814T183000
SUMMARY:LGUSD Regular Board Meeting
LOCATION:Los Gatos Union School District\n17010 Roberts Road\nLos Gatos\, C
 A 95032
CATEGORIES:Events
DESCRIPTION:\nhttps://simbli.eboardsolutions.com/SB_Meetings/ViewMeeting.as
 px?S=36030309&MID=41407\n<a href=' https://www.lgusd.org/apps/events/31248
 253/'>Read more</a>
URL:https://www.lgusd.org/apps/events/31248253/
ORGANIZER;CN="Edlio Calendar":MAILTO:noreply@www.lgusd.org
DTSTAMP:20260424T145711Z
END:VEVENT
BEGIN:VEVENT
UID:35300768@www.lgusd.org#20251009
SEQUENCE:1
CREATED:20251009T024452Z
LAST-MODIFIED:20251009T024452Z
DTSTART;TZID=US/Pacific:20251009T183000
DTEND;TZID=US/Pacific:20251009T193000
SUMMARY:LGUSD Regular Board Meeting
LOCATION:Los Gatos Union School District\n17010 Roberts Road\nLos Gatos\, C
 A and live stream
CATEGORIES:Events
DESCRIPTION:\nhttps://simbli.eboardsolutions.com/SB_Meetings/ViewMeeting.as
 px?S=36030309&MID=45660\n<a href=' https://www.lgusd.org/apps/events/35300
 768/'>Read more</a>
URL:https://www.lgusd.org/apps/events/35300768/
ORGANIZER;CN="Edlio Calendar":MAILTO:noreply@www.lgusd.org
DTSTAMP:20260424T145711Z
END:VEVENT
BEGIN:VEVENT
UID:35535785@www.lgusd.org#20251110
SEQUENCE:1
CREATED:20251110T232114Z
LAST-MODIFIED:20251110T232114Z
DTSTART;TZID=US/Pacific:20251110T183000
DTEND;TZID=US/Pacific:20251110T183000
SUMMARY:LGUSD Regular Board Meeting
LOCATION:Los Gatos Union School District\n17010 Roberts Road\nLos Gatos\n\n
 and \n\nZoom Webinar
CATEGORIES:Events
DESCRIPTION:\nhttps://simbli.eboardsolutions.com/SB_Meetings/ViewMeeting.as
 px?S=36030309&MID=48979\n<a href=' https://www.lgusd.org/apps/events/35535
 785/'>Read more</a>
URL:https://www.lgusd.org/apps/events/35535785/
ORGANIZER;CN="Edlio Calendar":MAILTO:noreply@www.lgusd.org
DTSTAMP:20260424T145711Z
END:VEVENT
BEGIN:VEVENT
UID:21619351@www.lgusd.org#20250604
SEQUENCE:1
CREATED:20250604T001333Z
LAST-MODIFIED:20250604T001333Z
DTSTART;TZID=US/Pacific:20250604T183000
DTEND;TZID=US/Pacific:20250604T183000
SUMMARY:LGUSD Special Board Meeting
LOCATION:Los Gatos Union School District\n17010 Roberts Road\, Los Gatos\, 
 CA 95032
CATEGORIES:Events
DESCRIPTION:\nhttps://simbli.eboardsolutions.com/SB_Meetings/ViewMeeting.as
 px?S=36030309&MID=40533\n<a href=' https://www.lgusd.org/apps/events/21619
 351/'>Read more</a>
URL:https://www.lgusd.org/apps/events/21619351/
ORGANIZER;CN="Edlio Calendar":MAILTO:noreply@www.lgusd.org
DTSTAMP:20260424T145711Z
END:VEVENT
BEGIN:VEVENT
UID:35815602@www.lgusd.org#20260108
SEQUENCE:1
CREATED:20260106T010242Z
LAST-MODIFIED:20260106T010242Z
DTSTART;TZID=US/Pacific:20260108T183000
DTEND;TZID=US/Pacific:20260108T183000
SUMMARY:Regular Board Meeting
LOCATION:Los Gatos Union School District\n17010 Roberts Road\nLos Gatos\, C
 A 95032\n\nand live stream
CATEGORIES:Events
DESCRIPTION:\nhttps://simbli.eboardsolutions.com/SB_Meetings/ViewMeeting.as
 px?S=36030309&MID=51237\n<a href=' https://www.lgusd.org/apps/events/35815
 602/'>Read more</a>
URL:https://www.lgusd.org/apps/events/35815602/
ORGANIZER;CN="Edlio Calendar":MAILTO:noreply@www.lgusd.org
DTSTAMP:20260424T145711Z
END:VEVENT
BEGIN:VEVENT
UID:35815604@www.lgusd.org#20260212
SEQUENCE:2
CREATED:20260210T004812Z
LAST-MODIFIED:20260210T004812Z
DTSTART;TZID=US/Pacific:20260212T183000
DTEND;TZID=US/Pacific:20260212T183000
SUMMARY:Regular Board Meeting
LOCATION:Los Gatos Union School District\n17010 Roberts Road\nLos Gatos\, C
 A 95032\n\nand livestream
CATEGORIES:Events
DESCRIPTION:\nhttps://simbli.eboardsolutions.com/SB_Meetings/ViewMeeting.as
 px?S=36030309&MID=55629\n<a href=' https://www.lgusd.org/apps/events/35815
 604/'>Read more</a>
URL:https://www.lgusd.org/apps/events/35815604/
ORGANIZER;CN="Edlio Calendar":MAILTO:noreply@www.lgusd.org
DTSTAMP:20260424T145711Z
END:VEVENT
BEGIN:VEVENT
UID:35878300@www.lgusd.org#20260601
SEQUENCE:0
CREATED:20260115T010248Z
LAST-MODIFIED:20260115T010248Z
DTSTART;TZID=US/Pacific:20260601T183000
DTEND;TZID=US/Pacific:20260601T183000
SUMMARY:Regular Board Meeting
LOCATION:Los Gatos Union School District\n17010 Roberts Road\nLos Gatos\, C
 A 95032\n\nand livestream
CATEGORIES:Events
URL:https://www.lgusd.org/apps/events/35878300/
ORGANIZER;CN="Edlio Calendar":MAILTO:noreply@www.lgusd.org
DTSTAMP:20260424T145711Z
END:VEVENT
BEGIN:VEVENT
UID:35878303@www.lgusd.org#20260603
SEQUENCE:0
CREATED:20260115T010341Z
LAST-MODIFIED:20260115T010341Z
DTSTART;TZID=US/Pacific:20260603T183000
DTEND;TZID=US/Pacific:20260603T183000
SUMMARY:Special Board Meeting
LOCATION:Los Gatos Union School District\n17010 Roberts Road\nLos Gatos\, C
 A 95032
CATEGORIES:Events
URL:https://www.lgusd.org/apps/events/35878303/
ORGANIZER;CN="Edlio Calendar":MAILTO:noreply@www.lgusd.org
DTSTAMP:20260424T145711Z
END:VEVENT
BEGIN:VEVENT
UID:36005119@www.lgusd.org#20260210
SEQUENCE:0
CREATED:20260210T004550Z
LAST-MODIFIED:20260210T004550Z
DTSTART;TZID=US/Pacific:20260210T183000
DTEND;TZID=US/Pacific:20260210T183000
SUMMARY:Special Board Meeting
LOCATION:Los Gatos Union School District\n17010 Roberts Road\nLos Gatos\, C
 A 95032
CATEGORIES:Events
DESCRIPTION:\nhttps://simbli.eboardsolutions.com/SB_Meetings/ViewMeeting.as
 px?S=36030309&MID=55742\n<a href=' https://www.lgusd.org/apps/events/36005
 119/'>Read more</a>
URL:https://www.lgusd.org/apps/events/36005119/
ORGANIZER;CN="Edlio Calendar":MAILTO:noreply@www.lgusd.org
DTSTAMP:20260424T145711Z
END:VEVENT
END:VCALENDAR
